BEGIN:VCALENDAR
VERSION:2.0
PRODID:-//marlowes - ECPv4.6.13//NONSGML v1.0//EN
CALSCALE:GREGORIAN
METHOD:PUBLISH
X-WR-CALNAME:marlowes
X-ORIGINAL-URL:https://www.marlowes.de
X-WR-CALDESC:Veranstaltungen für marlowes
BEGIN:VEVENT
DTSTART;TZID=Europe/Berlin:20260428T190000
DTEND;TZID=Europe/Berlin:20260428T210000
DTSTAMP:20260425T040123
CREATED:20260423T213537Z
LAST-MODIFIED:20260423T213723Z
UID:59659-1777402800-1777410000@www.marlowes.de
SUMMARY:Der Prozess Horten. Ausgangslage\, Verfahren und Kritik
DESCRIPTION:Mit der Entscheidung des Senats\, das ehemalige Horten-Gebäude abzureißen und das Areal neu zu bebauen\, stehen in der Bremer Innenstadt tiefgreifende Veränderungen an. Vieles scheint möglich – einiges wird aber durch den einge-schlagenen Weg auch verworfen oder rückt in den Hintergrund. Die Veranstaltenden laden dazu ein\, die Senatsentscheidung und das gewählte Verfahren zu diskutieren\, sowie sich mit Positionen auseinanderzusetzen\, die alternative Wege zur Umsetzung einfordern. \nWeitere Information >>> \n
URL:https://www.marlowes.de/kalender/der-prozess-horten-ausgangslage-verfahren-und-kritik/
LOCATION:Faulenstraße 69\, Bremen
CATEGORIES:Diskussion,Vortrag
ATTACH;FMTTYPE=image/jpeg:https://www.marlowes.de/wp-content/uploads/2026/04/260428_Bremen_Horten.jpg
END:VEVENT
END:VCALENDAR