BEGIN:VCALENDAR
VERSION:2.0
PRODID:-//marlowes - ECPv4.6.13//NONSGML v1.0//EN
CALSCALE:GREGORIAN
METHOD:PUBLISH
X-WR-CALNAME:marlowes
X-ORIGINAL-URL:https://www.marlowes.de
X-WR-CALDESC:Veranstaltungen für marlowes
BEGIN:VEVENT
DTSTART;VALUE=DATE:20260314
DTEND;VALUE=DATE:20260720
DTSTAMP:20260419T122828
CREATED:20260302T110737Z
LAST-MODIFIED:20260306T111958Z
UID:58893-1773446400-1784505599@www.marlowes.de
SUMMARY:Dr. Otto Lossen – Der Fotograf der Weissenhofsiedlung 1927
DESCRIPTION:1927 erhielt Dr. Otto Lossen den Alleinauftrag\, die Gebäude der Werkbund-Ausstellung „Die Wohnung“ in Stuttgart zu fotografieren und dokumentieren. Seine Fotos dienten als Pressebilder und wurden noch während der Ausstellungszeit rund um den Globus veröffentlicht. Dadurch trugen sie wesentlich zur begeisterten und internationalen Rezeption der Weissenhofsiedlung bei und prägen bis heute deren Wahrnehmung. \nÜber das Leben und weitere Werke Lossens war bisher wenig bekannt. Die Ausstellung widmet sich der Biografie des promovierten Chemikers\, der über eine Stelle bei der Stuttgarter Firma J. Hauff & Co. zur Fotografie kam. \nWeitere Information >>> \n
URL:https://www.marlowes.de/kalender/dr-otto-lossen-der-fotograf-der-weissenhofsiedlung-1927/
LOCATION:Am Weissenhof 20
CATEGORIES:Ausstellung
ATTACH;FMTTYPE=image/jpeg:https://www.marlowes.de/wp-content/uploads/2026/03/260719_VW_Lossen.jpg
END:VEVENT
END:VCALENDAR