BEGIN:VCALENDAR
VERSION:2.0
PRODID:-//marlowes - ECPv4.6.13//NONSGML v1.0//EN
CALSCALE:GREGORIAN
METHOD:PUBLISH
X-WR-CALNAME:marlowes
X-ORIGINAL-URL:https://www.marlowes.de
X-WR-CALDESC:Veranstaltungen für marlowes
BEGIN:VEVENT
DTSTART;VALUE=DATE:20260418
DTEND;VALUE=DATE:20260712
DTSTAMP:20260420T112135
CREATED:20260415T094043Z
LAST-MODIFIED:20260415T094043Z
UID:59463-1776470400-1783814399@www.marlowes.de
SUMMARY:Open Archive for Urbanism – Was ist\, kann und soll Stadt?
DESCRIPTION:Im Mittelpunkt der Ausstellung steht eine modulare Bibliothek zu den Themen Stadt\, Wohnen\, Nachbarschaften\, Arbeitsmigration\, Platte und Großsiedlung sowie Peripherie und Zentrum. Ausgewählte Texte\, Recherchen und Publikationen bieten eine historische Grundlage und zeigen\, wie  Orte\, Gesellschaften und Nachbarschaften bis heute geformt werden. Gleichzeitig geben sie Einblicke in aktuelle Debatten und Forschungen zu Stadtentwicklung und urbanem Leben. \nWeitere Information >>> \n  \n
URL:https://www.marlowes.de/kalender/open-archive-for-urbanism-was-ist-kann-und-soll-stadt/
LOCATION:Auerbacher Ring 41\, Berlin
ATTACH;FMTTYPE=image/jpeg:https://www.marlowes.de/wp-content/uploads/2026/04/260711_VW_openArchive.jpeg
END:VEVENT
END:VCALENDAR