BEGIN:VCALENDAR
VERSION:2.0
PRODID:-//marlowes - ECPv4.6.13//NONSGML v1.0//EN
CALSCALE:GREGORIAN
METHOD:PUBLISH
X-WR-CALNAME:marlowes
X-ORIGINAL-URL:https://www.marlowes.de
X-WR-CALDESC:Veranstaltungen für marlowes
BEGIN:VEVENT
DTSTART;VALUE=DATE:20260428
DTEND;VALUE=DATE:20260512
DTSTAMP:20260425T021847
CREATED:20260423T212713Z
LAST-MODIFIED:20260423T213003Z
UID:59656-1777334400-1778543999@www.marlowes.de
SUMMARY:Rainer Viertlböck\, Photographien 2009-2025
DESCRIPTION:Die Arbeiten von Rainer Viertlböck zeigen München aus ungewohnten Perspektiven. Der Fotograf richtet seinen Blick auf eine Stadt\, die vermeintlich vertraut ist\, und macht sie in ihrer räumlichen und visuellen Struktur neu lesbar. Durch Aufnahmen aus erhöhten Positionen – von Hebebühnen\, mit Helikopter oder Drohne – entstehen Bilder\, die bekannte Orte in eine andere Wahrnehmung überführen. Architektonische Details\, stadträumliche Zusammenhänge und oft übersehene Oberflächen treten dabei in den Vordergrund. \nWeitere Information >>> \n
URL:https://www.marlowes.de/kalender/rainer-viertlboeck-photographien-2009-2025/
LOCATION:Blumenstraße 22\, München\, Deutschland
CATEGORIES:Ausstellung
ATTACH;FMTTYPE=image/png:https://www.marlowes.de/wp-content/uploads/2026/04/260511_VWViertlboeck.png
END:VEVENT
END:VCALENDAR